BEGIN:VCALENDAR
VERSION:2.0
PRODID:-//Plameco Luxemburg - ECPv5.9.0//NONSGML v1.0//EN
CALSCALE:GREGORIAN
METHOD:PUBLISH
X-WR-CALNAME:Plameco Luxemburg
X-ORIGINAL-URL:https://www.plamecoluxemburg.lu
X-WR-CALDESC:Veranstaltungen für Plameco Luxemburg
BEGIN:VTIMEZONE
TZID:Europe/Paris
BEGIN:DAYLIGHT
TZOFFSETFROM:+0100
TZOFFSETTO:+0200
TZNAME:CEST
DTSTART:20200329T010000
END:DAYLIGHT
BEGIN:STANDARD
TZOFFSETFROM:+0200
TZOFFSETTO:+0100
TZNAME:CET
DTSTART:20201025T010000
END:STANDARD
END:VTIMEZONE
BEGIN:VEVENT
DTSTART;TZID=Europe/Paris:20200208T100000
DTEND;TZID=Europe/Paris:20200208T190000
DTSTAMP:20211006T204356
CREATED:20200115T134322Z
LAST-MODIFIED:20200115T141232Z
UID:1411-1581156000-1581188400@www.plamecoluxemburg.lu
SUMMARY:Neueröffnung unseres Showroom
DESCRIPTION:Wir laden Sie herzlich zu unsere Neueröffnung im Reder (ehemalige Vinsmoselle-Gebäude) ein. \nWann: am 08. Februar 2020 ab 10:00 Uhr mit einem Gläschen Crémant\nab 12.00 Uhr ist für Ihr leibliches Wohl gesorgt \nWir freuen uns auf Sie. \nIhr Alexander Schirrah & das Plameco Luxemburg – Team
URL:https://www.plamecoluxemburg.lu/event/neueroeffnung-unseres-showroom/
LOCATION:Plameco Luxemburg\, Im Reder\, Greiweldeng\, 5427\, Luxemburg
ATTACH;FMTTYPE=image/png:https://www.plamecoluxemburg.lu/wp-content/uploads/2020/01/Neueröffnung-Facebook-01.png
ORGANIZER;CN="Plameco%20Luxemburg":MAILTO:info@plamecoluxemburg.lu
END:VEVENT
END:VCALENDAR